BEGIN:VCALENDAR
VERSION:2.0
PRODID:-//Southern Division - ECPv6.15.20//NONSGML v1.0//EN
CALSCALE:GREGORIAN
METHOD:PUBLISH
X-ORIGINAL-URL:https://nspsouthern.org
X-WR-CALDESC:Events for Southern Division
REFRESH-INTERVAL;VALUE=DURATION:PT1H
X-Robots-Tag:noindex
X-PUBLISHED-TTL:PT1H
BEGIN:VTIMEZONE
TZID:America/New_York
BEGIN:DAYLIGHT
TZOFFSETFROM:-0500
TZOFFSETTO:-0400
TZNAME:EDT
DTSTART:20250309T070000
END:DAYLIGHT
BEGIN:STANDARD
TZOFFSETFROM:-0400
TZOFFSETTO:-0500
TZNAME:EST
DTSTART:20251102T060000
END:STANDARD
BEGIN:DAYLIGHT
TZOFFSETFROM:-0500
TZOFFSETTO:-0400
TZNAME:EDT
DTSTART:20260308T070000
END:DAYLIGHT
BEGIN:STANDARD
TZOFFSETFROM:-0400
TZOFFSETTO:-0500
TZNAME:EST
DTSTART:20261101T060000
END:STANDARD
BEGIN:DAYLIGHT
TZOFFSETFROM:-0500
TZOFFSETTO:-0400
TZNAME:EDT
DTSTART:20270314T070000
END:DAYLIGHT
BEGIN:STANDARD
TZOFFSETFROM:-0400
TZOFFSETTO:-0500
TZNAME:EST
DTSTART:20271107T060000
END:STANDARD
END:VTIMEZONE
BEGIN:VEVENT
DTSTART;TZID=America/New_York:20260308T090000
DTEND;TZID=America/New_York:20260308T163000
DTSTAMP:20260420T004525
CREATED:20251008T125913Z
LAST-MODIFIED:20251008T125913Z
UID:10000076-1772960400-1772987400@nspsouthern.org
SUMMARY:West Virginia Region Senior OET Evaluation at Timberline Mountain
DESCRIPTION:
URL:https://nspsouthern.org/event/west-virginia-region-senior-oet-evaluation-at-timberline-mountain/
LOCATION:Timberline Mountain\, 254 Four Seasons Dr.\, Davis\, WV\, 26260\, United States
CATEGORIES:OET,West Virginia Region
END:VEVENT
END:VCALENDAR