BEGIN:VCALENDAR
VERSION:2.0
PRODID:-//Southern Division - ECPv6.15.20//NONSGML v1.0//EN
CALSCALE:GREGORIAN
METHOD:PUBLISH
X-WR-CALNAME:Southern Division
X-ORIGINAL-URL:https://nspsouthern.org
X-WR-CALDESC:Events for Southern Division
REFRESH-INTERVAL;VALUE=DURATION:PT1H
X-Robots-Tag:noindex
X-PUBLISHED-TTL:PT1H
BEGIN:VTIMEZONE
TZID:America/New_York
BEGIN:DAYLIGHT
TZOFFSETFROM:-0500
TZOFFSETTO:-0400
TZNAME:EDT
DTSTART:20240310T070000
END:DAYLIGHT
BEGIN:STANDARD
TZOFFSETFROM:-0400
TZOFFSETTO:-0500
TZNAME:EST
DTSTART:20241103T060000
END:STANDARD
BEGIN:DAYLIGHT
TZOFFSETFROM:-0500
TZOFFSETTO:-0400
TZNAME:EDT
DTSTART:20250309T070000
END:DAYLIGHT
BEGIN:STANDARD
TZOFFSETFROM:-0400
TZOFFSETTO:-0500
TZNAME:EST
DTSTART:20251102T060000
END:STANDARD
BEGIN:DAYLIGHT
TZOFFSETFROM:-0500
TZOFFSETTO:-0400
TZNAME:EDT
DTSTART:20260308T070000
END:DAYLIGHT
BEGIN:STANDARD
TZOFFSETFROM:-0400
TZOFFSETTO:-0500
TZNAME:EST
DTSTART:20261101T060000
END:STANDARD
END:VTIMEZONE
BEGIN:VEVENT
DTSTART;TZID=America/New_York:20250222T080000
DTEND;TZID=America/New_York:20250222T170000
DTSTAMP:20260420T113208
CREATED:20250123T021102Z
LAST-MODIFIED:20250123T021102Z
UID:10000015-1740211200-1740243600@nspsouthern.org
SUMMARY:Avalanche Senior Elective 2025
DESCRIPTION:Field Session
URL:https://nspsouthern.org/event/avalanche-senior-elective-2025-4/
LOCATION:Massanutten Resort\, 1822 Resort Drive\, Massanutten\, 22840\, United States
CATEGORIES:Avalanche,Division Events,Virginia Region Events
ORGANIZER;CN="Rob Mayer":MAILTO:remstu@yahoo.com
END:VEVENT
BEGIN:VEVENT
DTSTART;TZID=America/New_York:20250216T080000
DTEND;TZID=America/New_York:20250216T170000
DTSTAMP:20260420T113208
CREATED:20250123T021003Z
LAST-MODIFIED:20250123T021003Z
UID:10000014-1739692800-1739725200@nspsouthern.org
SUMMARY:Avalanche Senior Elective 2025
DESCRIPTION:Field Session
URL:https://nspsouthern.org/event/avalanche-senior-elective-2025-3/
LOCATION:Whitegrass Touring Center\, 643 Weiss Knob Ski Rd\,\, Davis\, VA\, 26260\, United States
CATEGORIES:Avalanche,Division Events,Virginia Region Events
ORGANIZER;CN="Rob Mayer":MAILTO:remstu@yahoo.com
END:VEVENT
BEGIN:VEVENT
DTSTART;TZID=America/New_York:20250215T080000
DTEND;TZID=America/New_York:20250216T170000
DTSTAMP:20260420T113208
CREATED:20250123T020630Z
LAST-MODIFIED:20250123T020630Z
UID:10000013-1739606400-1739725200@nspsouthern.org
SUMMARY:Avalanche Senior Elective 2025
DESCRIPTION:Field Session
URL:https://nspsouthern.org/event/avalanche-senior-elective-2025-2/
LOCATION:Ober Mountain\, 1339 Ski Mountain Rd\, Gatlinburg\, TN\, 37738\, United States
CATEGORIES:Avalanche,Division Events,High South Region Events
ORGANIZER;CN="Rob Mayer":MAILTO:remstu@yahoo.com
END:VEVENT
BEGIN:VEVENT
DTSTART;TZID=America/New_York:20250211T190000
DTEND;TZID=America/New_York:20250213T210000
DTSTAMP:20260420T113208
CREATED:20250123T020532Z
LAST-MODIFIED:20250123T020532Z
UID:10000012-1739300400-1739480400@nspsouthern.org
SUMMARY:Avalanche Senior Elective 2025
DESCRIPTION:Classroom Session Online
URL:https://nspsouthern.org/event/avalanche-senior-elective-2025/
LOCATION:Online Course\, United States
CATEGORIES:Avalanche,Division Events
ORGANIZER;CN="Rob Mayer":MAILTO:remstu@yahoo.com
END:VEVENT
END:VCALENDAR