BEGIN:VCALENDAR
VERSION:2.0
PRODID:-//Southern Division - ECPv6.15.20//NONSGML v1.0//EN
CALSCALE:GREGORIAN
METHOD:PUBLISH
X-WR-CALNAME:Southern Division
X-ORIGINAL-URL:https://nspsouthern.org
X-WR-CALDESC:Events for Southern Division
REFRESH-INTERVAL;VALUE=DURATION:PT1H
X-Robots-Tag:noindex
X-PUBLISHED-TTL:PT1H
BEGIN:VTIMEZONE
TZID:America/New_York
BEGIN:DAYLIGHT
TZOFFSETFROM:-0500
TZOFFSETTO:-0400
TZNAME:EDT
DTSTART:20240310T070000
END:DAYLIGHT
BEGIN:STANDARD
TZOFFSETFROM:-0400
TZOFFSETTO:-0500
TZNAME:EST
DTSTART:20241103T060000
END:STANDARD
BEGIN:DAYLIGHT
TZOFFSETFROM:-0500
TZOFFSETTO:-0400
TZNAME:EDT
DTSTART:20250309T070000
END:DAYLIGHT
BEGIN:STANDARD
TZOFFSETFROM:-0400
TZOFFSETTO:-0500
TZNAME:EST
DTSTART:20251102T060000
END:STANDARD
BEGIN:DAYLIGHT
TZOFFSETFROM:-0500
TZOFFSETTO:-0400
TZNAME:EDT
DTSTART:20260308T070000
END:DAYLIGHT
BEGIN:STANDARD
TZOFFSETFROM:-0400
TZOFFSETTO:-0500
TZNAME:EST
DTSTART:20261101T060000
END:STANDARD
END:VTIMEZONE
BEGIN:VEVENT
DTSTART;TZID=America/New_York:20250301T080000
DTEND;TZID=America/New_York:20250301T170000
DTSTAMP:20260421T124724
CREATED:20250123T023031Z
LAST-MODIFIED:20250123T023031Z
UID:10000022-1740816000-1740848400@nspsouthern.org
SUMMARY:Senior OEC Evaluation
DESCRIPTION:
URL:https://nspsouthern.org/event/senior-oec-evaluation/
LOCATION:Appalachian Ski Mountain\, 940 Ski Mountain Rd\, Blowing Rock\, NC\, 28605\, United States
CATEGORIES:Blue Ridge Region Events,OEC
ORGANIZER;CN="JoAnn Ehlinger":MAILTO:joannnsp@gmail.com
END:VEVENT
BEGIN:VEVENT
DTSTART;TZID=America/New_York:20250309T080000
DTEND;TZID=America/New_York:20250309T170000
DTSTAMP:20260421T124724
CREATED:20250123T023553Z
LAST-MODIFIED:20250123T023553Z
UID:10000026-1741507200-1741539600@nspsouthern.org
SUMMARY:Senior OEC Evaluation
DESCRIPTION:
URL:https://nspsouthern.org/event/senior-oec-evaluation-3/
LOCATION:Winterplace Ski Resort\, 100 Old\, Flat Top Mountain Road\, Ghent\, WV\, 25843\, United States
CATEGORIES:OEC,West Virginia Region
ORGANIZER;CN="Tom Wagner":MAILTO:wagnertew@frontier.com
END:VEVENT
END:VCALENDAR