BEGIN:VCALENDAR
VERSION:2.0
PRODID:-//Southern Division - ECPv6.15.20//NONSGML v1.0//EN
CALSCALE:GREGORIAN
METHOD:PUBLISH
X-WR-CALNAME:Southern Division
X-ORIGINAL-URL:https://nspsouthern.org
X-WR-CALDESC:Events for Southern Division
REFRESH-INTERVAL;VALUE=DURATION:PT1H
X-Robots-Tag:noindex
X-PUBLISHED-TTL:PT1H
BEGIN:VTIMEZONE
TZID:America/New_York
BEGIN:DAYLIGHT
TZOFFSETFROM:-0500
TZOFFSETTO:-0400
TZNAME:EDT
DTSTART:20250309T070000
END:DAYLIGHT
BEGIN:STANDARD
TZOFFSETFROM:-0400
TZOFFSETTO:-0500
TZNAME:EST
DTSTART:20251102T060000
END:STANDARD
BEGIN:DAYLIGHT
TZOFFSETFROM:-0500
TZOFFSETTO:-0400
TZNAME:EDT
DTSTART:20260308T070000
END:DAYLIGHT
BEGIN:STANDARD
TZOFFSETFROM:-0400
TZOFFSETTO:-0500
TZNAME:EST
DTSTART:20261101T060000
END:STANDARD
BEGIN:DAYLIGHT
TZOFFSETFROM:-0500
TZOFFSETTO:-0400
TZNAME:EDT
DTSTART:20270314T070000
END:DAYLIGHT
BEGIN:STANDARD
TZOFFSETFROM:-0400
TZOFFSETTO:-0500
TZNAME:EST
DTSTART:20271107T060000
END:STANDARD
END:VTIMEZONE
BEGIN:VEVENT
DTSTART;TZID=America/New_York:20260813T080000
DTEND;TZID=America/New_York:20260816T170000
DTSTAMP:20260418T141021
CREATED:20260216T175631Z
LAST-MODIFIED:20260216T175631Z
UID:10000103-1786608000-1786899600@nspsouthern.org
SUMMARY:2026 Southern Division Conference
DESCRIPTION:
URL:https://nspsouthern.org/event/2026-southern-division-conference/
LOCATION:Wintergreen Resort\, Route 664\, Wintergreen\, VA\, 22958\, United States
CATEGORIES:Avalanche,Certified,Division Events,OEC,OET,Snowsports,Womens
END:VEVENT
BEGIN:VEVENT
DTSTART;TZID=America/New_York:20260926T080000
DTEND;TZID=America/New_York:20260926T170000
DTSTAMP:20260418T141021
CREATED:20260118T022834Z
LAST-MODIFIED:20260118T022834Z
UID:10000100-1790409600-1790442000@nspsouthern.org
SUMMARY:Cataloochee OEC Instructor Refresher
DESCRIPTION:
URL:https://nspsouthern.org/event/cataloochee-oec-instructor-refresher-2/
LOCATION:Cataloochee Ski Resort\, 1080 Ski Lodge Rd\, Maggie Valley\, NC\, 28751\, United States
CATEGORIES:High South Region Events,OEC
ORGANIZER;CN="John Pruitt":MAILTO:johndpruitt@hotmail.com
END:VEVENT
BEGIN:VEVENT
DTSTART;TZID=America/New_York:20261017T080000
DTEND;TZID=America/New_York:20261018T170000
DTSTAMP:20260418T141021
CREATED:20260118T023111Z
LAST-MODIFIED:20260118T023111Z
UID:10000101-1792224000-1792342800@nspsouthern.org
SUMMARY:Cataloochee OEC Refresher
DESCRIPTION:
URL:https://nspsouthern.org/event/cataloochee-oec-refresher-2/
LOCATION:Cataloochee Ski Resort\, 1080 Ski Lodge Rd\, Maggie Valley\, NC\, 28751\, United States
CATEGORIES:High South Region Events,OEC
ORGANIZER;CN="John Pruitt":MAILTO:johndpruitt@hotmail.com
END:VEVENT
END:VCALENDAR