BEGIN:VCALENDAR
VERSION:2.0
PRODID:-//Southern Division - ECPv6.15.20//NONSGML v1.0//EN
CALSCALE:GREGORIAN
METHOD:PUBLISH
X-ORIGINAL-URL:https://nspsouthern.org
X-WR-CALDESC:Events for Southern Division
REFRESH-INTERVAL;VALUE=DURATION:PT1H
X-Robots-Tag:noindex
X-PUBLISHED-TTL:PT1H
BEGIN:VTIMEZONE
TZID:America/New_York
BEGIN:DAYLIGHT
TZOFFSETFROM:-0500
TZOFFSETTO:-0400
TZNAME:EDT
DTSTART:20240310T070000
END:DAYLIGHT
BEGIN:STANDARD
TZOFFSETFROM:-0400
TZOFFSETTO:-0500
TZNAME:EST
DTSTART:20241103T060000
END:STANDARD
BEGIN:DAYLIGHT
TZOFFSETFROM:-0500
TZOFFSETTO:-0400
TZNAME:EDT
DTSTART:20250309T070000
END:DAYLIGHT
BEGIN:STANDARD
TZOFFSETFROM:-0400
TZOFFSETTO:-0500
TZNAME:EST
DTSTART:20251102T060000
END:STANDARD
BEGIN:DAYLIGHT
TZOFFSETFROM:-0500
TZOFFSETTO:-0400
TZNAME:EDT
DTSTART:20260308T070000
END:DAYLIGHT
BEGIN:STANDARD
TZOFFSETFROM:-0400
TZOFFSETTO:-0500
TZNAME:EST
DTSTART:20261101T060000
END:STANDARD
END:VTIMEZONE
BEGIN:VEVENT
DTSTART;TZID=America/New_York:20250927T073000
DTEND;TZID=America/New_York:20250927T140000
DTSTAMP:20260420T195221
CREATED:20250811T113108Z
LAST-MODIFIED:20250811T113138Z
UID:10000046-1758958200-1758981600@nspsouthern.org
SUMMARY:Appalachian OEC Instructor Refreasher
DESCRIPTION:OEC Instructor for Appalachian Ski Patrol
URL:https://nspsouthern.org/event/appalachian-oec-instructor-refreasher/
LOCATION:Appalachian Ski Mountain\, 940 Ski Mountain Rd\, Blowing Rock\, NC\, 28605\, United States
CATEGORIES:Blue Ridge Region Events,OEC
ORGANIZER;CN="Marshall Fletcher":MAILTO:mwfletcher@appskimtn.com
END:VEVENT
BEGIN:VEVENT
DTSTART;TZID=America/New_York:20250920T080000
DTEND;TZID=America/New_York:20250920T120000
DTSTAMP:20260420T195221
CREATED:20250806T002842Z
LAST-MODIFIED:20250901T153024Z
UID:10000035-1758355200-1758369600@nspsouthern.org
SUMMARY:Timberline Mountain Instructor OEC Refresher
DESCRIPTION:
URL:https://nspsouthern.org/event/timberline-mountain-instructor-refresher-2/
LOCATION:Timberline Mountain\, 254 Four Seasons Dr.\, Davis\, WV\, 26260\, United States
CATEGORIES:OEC,West Virginia Region
ORGANIZER;CN="Jeff Ayers":MAILTO:jayers@timberlinemountain.com
END:VEVENT
BEGIN:VEVENT
DTSTART;TZID=America/New_York:20250906T080000
DTEND;TZID=America/New_York:20250906T170000
DTSTAMP:20260420T195221
CREATED:20250808T172819Z
LAST-MODIFIED:20250811T113602Z
UID:10000043-1757145600-1757178000@nspsouthern.org
SUMMARY:Sugar and Beech OEC Instructor Refreasher
DESCRIPTION:This is an OEC Instructor refresher for Sugar and Beech instructors. It will be held at Sugar Mountain.
URL:https://nspsouthern.org/event/oec-instructor-refreasher-sugar-and-beech-patrols/
LOCATION:Sugar Mountain\, 1009 Sugar Mountain Dr\, Sugar Mountain\, NC\, 28604\, United States
CATEGORIES:Blue Ridge Region Events,OEC
ORGANIZER;CN="Frances Edwards":MAILTO:fedwards@nspbm.org
END:VEVENT
BEGIN:VEVENT
DTSTART;TZID=America/New_York:20250822T000000
DTEND;TZID=America/New_York:20250824T235959
DTSTAMP:20260420T195221
CREATED:20250122T214000Z
LAST-MODIFIED:20250819T133211Z
UID:10000011-1755820800-1756079999@nspsouthern.org
SUMMARY:Southern Division Patroller's Conference - 2025
DESCRIPTION:Fall Conference\nOnline registration is now closed. Tickets are available Friday and Saturday for the event. Please see registration desk \nWintergreen Resort Wintergreen Virginia\n \n\n	Fall Conference Schedule
URL:https://nspsouthern.org/event/conference-2025/
LOCATION:Wintergreen Resort\, Route 664\, Wintergreen\, VA\, 22958\, United States
CATEGORIES:Division Events
ORGANIZER;CN="Matthew Dodge":MAILTO:conference@nspsouthern.org
END:VEVENT
BEGIN:VEVENT
DTSTART;TZID=America/New_York:20250503T080000
DTEND;TZID=America/New_York:20250503T120000
DTSTAMP:20260420T195221
CREATED:20250415T010315Z
LAST-MODIFIED:20250504T171714Z
UID:10000030-1746259200-1746273600@nspsouthern.org
SUMMARY:Division Spring Executive meeting
DESCRIPTION:Join the meeting now
URL:https://nspsouthern.org/event/division-spring-executive-meeting/
LOCATION:Virtual
CATEGORIES:Division Events
END:VEVENT
BEGIN:VEVENT
DTSTART;TZID=America/New_York:20250309T080000
DTEND;TZID=America/New_York:20250309T170000
DTSTAMP:20260420T195221
CREATED:20250123T023553Z
LAST-MODIFIED:20250123T023553Z
UID:10000026-1741507200-1741539600@nspsouthern.org
SUMMARY:Senior OEC Evaluation
DESCRIPTION:
URL:https://nspsouthern.org/event/senior-oec-evaluation-3/
LOCATION:Winterplace Ski Resort\, 100 Old\, Flat Top Mountain Road\, Ghent\, WV\, 25843\, United States
CATEGORIES:OEC,West Virginia Region
ORGANIZER;CN="Tom Wagner":MAILTO:wagnertew@frontier.com
END:VEVENT
BEGIN:VEVENT
DTSTART;TZID=America/New_York:20250301T080000
DTEND;TZID=America/New_York:20250301T170000
DTSTAMP:20260420T195221
CREATED:20250123T023031Z
LAST-MODIFIED:20250123T023031Z
UID:10000022-1740816000-1740848400@nspsouthern.org
SUMMARY:Senior OEC Evaluation
DESCRIPTION:
URL:https://nspsouthern.org/event/senior-oec-evaluation/
LOCATION:Appalachian Ski Mountain\, 940 Ski Mountain Rd\, Blowing Rock\, NC\, 28605\, United States
CATEGORIES:Blue Ridge Region Events,OEC
ORGANIZER;CN="JoAnn Ehlinger":MAILTO:joannnsp@gmail.com
END:VEVENT
BEGIN:VEVENT
DTSTART;TZID=America/New_York:20250222T080000
DTEND;TZID=America/New_York:20250222T170000
DTSTAMP:20260420T195221
CREATED:20250123T023131Z
LAST-MODIFIED:20250123T023131Z
UID:10000023-1740211200-1740243600@nspsouthern.org
SUMMARY:Senior OEC Evaluation
DESCRIPTION:
URL:https://nspsouthern.org/event/senior-oec-evaluation-2/
LOCATION:Cataloochee Ski Resort\, 1080 Ski Lodge Rd\, Maggie Valley\, NC\, 28751\, United States
CATEGORIES:High South Region Events,OEC
ORGANIZER;CN="Chris Polhemus":MAILTO:christopher.polhemus@lmco.com
END:VEVENT
BEGIN:VEVENT
DTSTART;TZID=America/New_York:20250222T080000
DTEND;TZID=America/New_York:20250222T170000
DTSTAMP:20260420T195221
CREATED:20250123T022632Z
LAST-MODIFIED:20250123T022632Z
UID:10000021-1740211200-1740243600@nspsouthern.org
SUMMARY:Senior OET Evaluation
DESCRIPTION:
URL:https://nspsouthern.org/event/senior-oet-evaluation/
LOCATION:Sugar Mountain\, 1009 Sugar Mountain Dr\, Sugar Mountain\, NC\, 28604\, United States
CATEGORIES:Blue Ridge Region Events,OET
ORGANIZER;CN="Tom Gantt":MAILTO:tomgantt752@gmail.com
END:VEVENT
BEGIN:VEVENT
DTSTART;TZID=America/New_York:20250222T080000
DTEND;TZID=America/New_York:20250222T170000
DTSTAMP:20260420T195221
CREATED:20250123T022433Z
LAST-MODIFIED:20250123T022433Z
UID:10000020-1740211200-1740243600@nspsouthern.org
SUMMARY:Snowsports School Patrollers
DESCRIPTION:Telemark Clinic
URL:https://nspsouthern.org/event/snowsports-school-patrollers-2/
LOCATION:Timberline Mountain\, 254 Four Seasons Dr.\, Davis\, WV\, 26260\, United States
CATEGORIES:OET,Snowsports,West Virginia Region
ORGANIZER;CN="Briggs Allen":MAILTO:briggsaln@aol.com
END:VEVENT
BEGIN:VEVENT
DTSTART;TZID=America/New_York:20250222T080000
DTEND;TZID=America/New_York:20250222T170000
DTSTAMP:20260420T195221
CREATED:20250123T021102Z
LAST-MODIFIED:20250123T021102Z
UID:10000015-1740211200-1740243600@nspsouthern.org
SUMMARY:Avalanche Senior Elective 2025
DESCRIPTION:Field Session
URL:https://nspsouthern.org/event/avalanche-senior-elective-2025-4/
LOCATION:Massanutten Resort\, 1822 Resort Drive\, Massanutten\, 22840\, United States
CATEGORIES:Avalanche,Division Events,Virginia Region Events
ORGANIZER;CN="Rob Mayer":MAILTO:remstu@yahoo.com
END:VEVENT
BEGIN:VEVENT
DTSTART;TZID=America/New_York:20250221T080000
DTEND;TZID=America/New_York:20250221T170000
DTSTAMP:20260420T195221
CREATED:20250123T022336Z
LAST-MODIFIED:20250123T022336Z
UID:10000019-1740124800-1740157200@nspsouthern.org
SUMMARY:Snowsports School Patrollers
DESCRIPTION:Ski / Snowboard Clinic
URL:https://nspsouthern.org/event/snowsports-school-patrollers/
LOCATION:Timberline Mountain\, 254 Four Seasons Dr.\, Davis\, WV\, 26260\, United States
CATEGORIES:OET,Snowsports,West Virginia Region
ORGANIZER;CN="Briggs Allen":MAILTO:briggsaln@aol.com
END:VEVENT
BEGIN:VEVENT
DTSTART;TZID=America/New_York:20250220T000000
DTEND;TZID=America/New_York:20250220T235959
DTSTAMP:20260420T195221
CREATED:20250123T022247Z
LAST-MODIFIED:20250123T022247Z
UID:10000018-1740009600-1740095999@nspsouthern.org
SUMMARY:Snowsports School Instructors Clinic
DESCRIPTION:
URL:https://nspsouthern.org/event/snowsports-school-instructors-clinic/
LOCATION:Timberline Mountain\, 254 Four Seasons Dr.\, Davis\, WV\, 26260\, United States
CATEGORIES:OET,Snowsports,West Virginia Region
ORGANIZER;CN="Briggs Allen":MAILTO:briggsaln@aol.com
END:VEVENT
BEGIN:VEVENT
DTSTART;TZID=America/New_York:20250216T080000
DTEND;TZID=America/New_York:20250216T170000
DTSTAMP:20260420T195221
CREATED:20250123T021003Z
LAST-MODIFIED:20250123T021003Z
UID:10000014-1739692800-1739725200@nspsouthern.org
SUMMARY:Avalanche Senior Elective 2025
DESCRIPTION:Field Session
URL:https://nspsouthern.org/event/avalanche-senior-elective-2025-3/
LOCATION:Whitegrass Touring Center\, 643 Weiss Knob Ski Rd\,\, Davis\, VA\, 26260\, United States
CATEGORIES:Avalanche,Division Events,Virginia Region Events
ORGANIZER;CN="Rob Mayer":MAILTO:remstu@yahoo.com
END:VEVENT
BEGIN:VEVENT
DTSTART;TZID=America/New_York:20250215T080000
DTEND;TZID=America/New_York:20250216T170000
DTSTAMP:20260420T195221
CREATED:20250123T020630Z
LAST-MODIFIED:20250123T020630Z
UID:10000013-1739606400-1739725200@nspsouthern.org
SUMMARY:Avalanche Senior Elective 2025
DESCRIPTION:Field Session
URL:https://nspsouthern.org/event/avalanche-senior-elective-2025-2/
LOCATION:Ober Mountain\, 1339 Ski Mountain Rd\, Gatlinburg\, TN\, 37738\, United States
CATEGORIES:Avalanche,Division Events,High South Region Events
ORGANIZER;CN="Rob Mayer":MAILTO:remstu@yahoo.com
END:VEVENT
BEGIN:VEVENT
DTSTART;TZID=America/New_York:20250211T190000
DTEND;TZID=America/New_York:20250213T210000
DTSTAMP:20260420T195221
CREATED:20250123T020532Z
LAST-MODIFIED:20250123T020532Z
UID:10000012-1739300400-1739480400@nspsouthern.org
SUMMARY:Avalanche Senior Elective 2025
DESCRIPTION:Classroom Session Online
URL:https://nspsouthern.org/event/avalanche-senior-elective-2025/
LOCATION:Online Course\, United States
CATEGORIES:Avalanche,Division Events
ORGANIZER;CN="Rob Mayer":MAILTO:remstu@yahoo.com
END:VEVENT
BEGIN:VEVENT
DTSTART;TZID=America/New_York:20250209T080000
DTEND;TZID=America/New_York:20250209T170000
DTSTAMP:20260420T195221
CREATED:20250123T021605Z
LAST-MODIFIED:20250123T021605Z
UID:10000016-1739088000-1739120400@nspsouthern.org
SUMMARY:Wintergreen Patrol - Senior OET Evaluation
DESCRIPTION:Senior OET Evaluation
URL:https://nspsouthern.org/event/wintergreen-patrol-senior-oet-evaluation/
LOCATION:Wintergreen Resort\, Route 664\, Wintergreen\, VA\, 22958\, United States
CATEGORIES:OET,Virginia Region Events
ORGANIZER;CN="David Carroll":MAILTO:davidscarroll@comcast.net
END:VEVENT
BEGIN:VEVENT
DTSTART;TZID=America/New_York:20250208T080000
DTEND;TZID=America/New_York:20250208T170000
DTSTAMP:20260420T195221
CREATED:20250123T021748Z
LAST-MODIFIED:20250123T021848Z
UID:10000017-1739001600-1739034000@nspsouthern.org
SUMMARY:Wintergreen Senior OEC Evaluation
DESCRIPTION:OEC Evaluation
URL:https://nspsouthern.org/event/wintergreen-senior-oec-evaluation/
LOCATION:Wintergreen Resort\, Route 664\, Wintergreen\, VA\, 22958\, United States
CATEGORIES:OEC,Virginia Region Events
ORGANIZER;CN="Geoff Stagg":MAILTO:gstagg@yahoo.com
END:VEVENT
BEGIN:VEVENT
DTSTART;TZID=America/New_York:20250203T080000
DTEND;TZID=America/New_York:20250203T170000
DTSTAMP:20260420T195221
CREATED:20250122T184932Z
LAST-MODIFIED:20250122T185223Z
UID:10000007-1738569600-1738602000@nspsouthern.org
SUMMARY:Senior Alpine Trainer/Evaluator Clinic
DESCRIPTION:Senior Alpine Trainer/Evaluator Clinic
URL:https://nspsouthern.org/event/senior-alpine-trainer-evaluator-clinic/
LOCATION:Ober Mountain\, 1339 Ski Mountain Rd\, Gatlinburg\, TN\, 37738\, United States
CATEGORIES:High South Region Events,OET
ORGANIZER;CN="Randall Rumer":MAILTO:southernoet@gmail.com
END:VEVENT
BEGIN:VEVENT
DTSTART;TZID=America/New_York:20250202T080000
DTEND;TZID=America/New_York:20250202T170000
DTSTAMP:20260420T195221
CREATED:20250122T212316Z
LAST-MODIFIED:20250122T212316Z
UID:10000010-1738483200-1738515600@nspsouthern.org
SUMMARY:Snowshoe Patrol - Senior OET Clinic
DESCRIPTION:
URL:https://nspsouthern.org/event/snowshoe-patrol-senior-oet-clinic/
LOCATION:Snowshoe\, Snowshoe Mountain Resort\, Snowshoe\, WV\, 26209\, United States
CATEGORIES:OET,West Virginia Region
ORGANIZER;CN="Ted Cady":MAILTO:tcady21773@gmail.com
END:VEVENT
BEGIN:VEVENT
DTSTART;TZID=America/New_York:20250201T080000
DTEND;TZID=America/New_York:20250201T170000
DTSTAMP:20260420T195221
CREATED:20250123T023420Z
LAST-MODIFIED:20250123T023420Z
UID:10000024-1738396800-1738429200@nspsouthern.org
SUMMARY:Senior OET Evaluation
DESCRIPTION:
URL:https://nspsouthern.org/event/senior-oet-evaluation-2/
LOCATION:Ober Mountain\, 1339 Ski Mountain Rd\, Gatlinburg\, TN\, 37738\, United States
CATEGORIES:High South Region Events,OET
ORGANIZER;CN="Jimmy Kuneman":MAILTO:drjkuneman@gmail.com
END:VEVENT
BEGIN:VEVENT
DTSTART;TZID=America/New_York:20250201T080000
DTEND;TZID=America/New_York:20250201T170000
DTSTAMP:20260420T195221
CREATED:20250122T211938Z
LAST-MODIFIED:20250122T212119Z
UID:10000009-1738396800-1738429200@nspsouthern.org
SUMMARY:Certified Clinic #1
DESCRIPTION:OEC/ORM/LARR
URL:https://nspsouthern.org/event/certified-clinic-1/
LOCATION:Bryce Resort\, 1982 Fairway Dr\, Basye\, VA\, 22810\, United States
CATEGORIES:Certified,Division Events
ORGANIZER;CN="Nate Wageley":MAILTO:nwageley@gmail.com
END:VEVENT
BEGIN:VEVENT
DTSTART;TZID=America/New_York:20250131T000000
DTEND;TZID=America/New_York:20250202T235959
DTSTAMP:20260420T195221
CREATED:20250117T205613Z
LAST-MODIFIED:20250122T213022Z
UID:10000006-1738281600-1738540799@nspsouthern.org
SUMMARY:Division Women's Clinic 2025
DESCRIPTION:Women’s Clinic Registration Form
URL:https://nspsouthern.org/event/division-womens-clinic-2025/
LOCATION:Massanutten Resort\, 1822 Resort Drive\, Massanutten\, 22840\, United States
CATEGORIES:Division Events
ORGANIZER;CN="Amanda Perryman":MAILTO:amandaogle@hotmail.com
END:VEVENT
BEGIN:VEVENT
DTSTART;TZID=America/New_York:20250122T080000
DTEND;TZID=America/New_York:20250122T170000
DTSTAMP:20260420T195221
CREATED:20250122T185149Z
LAST-MODIFIED:20250122T185149Z
UID:10000008-1737532800-1737565200@nspsouthern.org
SUMMARY:WV Region Toboggan Trainers Workshop
DESCRIPTION:WV Region Toboggan Trainers Workshop
URL:https://nspsouthern.org/event/wv-region-toboggan-trainers-workshop/
LOCATION:Snowshoe\, Snowshoe Mountain Resort\, Snowshoe\, WV\, 26209\, United States
CATEGORIES:OET,West Virginia Region
ORGANIZER;CN="Randall Rumer":MAILTO:southernoet@gmail.com
END:VEVENT
END:VCALENDAR