BEGIN:VCALENDAR
VERSION:2.0
PRODID:-//Southern Division - ECPv6.15.20//NONSGML v1.0//EN
CALSCALE:GREGORIAN
METHOD:PUBLISH
X-WR-CALNAME:Southern Division
X-ORIGINAL-URL:https://nspsouthern.org
X-WR-CALDESC:Events for Southern Division
REFRESH-INTERVAL;VALUE=DURATION:PT1H
X-Robots-Tag:noindex
X-PUBLISHED-TTL:PT1H
BEGIN:VTIMEZONE
TZID:America/New_York
BEGIN:DAYLIGHT
TZOFFSETFROM:-0500
TZOFFSETTO:-0400
TZNAME:EDT
DTSTART:20240310T070000
END:DAYLIGHT
BEGIN:STANDARD
TZOFFSETFROM:-0400
TZOFFSETTO:-0500
TZNAME:EST
DTSTART:20241103T060000
END:STANDARD
BEGIN:DAYLIGHT
TZOFFSETFROM:-0500
TZOFFSETTO:-0400
TZNAME:EDT
DTSTART:20250309T070000
END:DAYLIGHT
BEGIN:STANDARD
TZOFFSETFROM:-0400
TZOFFSETTO:-0500
TZNAME:EST
DTSTART:20251102T060000
END:STANDARD
BEGIN:DAYLIGHT
TZOFFSETFROM:-0500
TZOFFSETTO:-0400
TZNAME:EDT
DTSTART:20260308T070000
END:DAYLIGHT
BEGIN:STANDARD
TZOFFSETFROM:-0400
TZOFFSETTO:-0500
TZNAME:EST
DTSTART:20261101T060000
END:STANDARD
END:VTIMEZONE
BEGIN:VEVENT
DTSTART;TZID=America/New_York:20251213T000000
DTEND;TZID=America/New_York:20251213T235959
DTSTAMP:20260420T004351
CREATED:20251023T130416Z
LAST-MODIFIED:20260123T173230Z
UID:10000086-1765584000-1765670399@nspsouthern.org
SUMMARY:Southern Division Women's Program - 1 Day Event -Cataloochee
DESCRIPTION:This is a 1 day event for the Women/s Program – Contact Ashley Laws \nEvent Fee – $25.00
URL:https://nspsouthern.org/event/southern-division-womens-program-1-day-event-cataloochee/
LOCATION:Cataloochee Ski Resort\, 1080 Ski Lodge Rd\, Maggie Valley\, NC\, 28751\, United States
CATEGORIES:Division Events,High South Region Events,Womens
ATTACH;FMTTYPE=image/jpeg:https://nspsouthern.org/wp-content/uploads/2025/10/womens-clinic-header-Cataloochee.jpg
ORGANIZER;CN="Ashley Laws":MAILTO:ashleyllaws@gmail.com
END:VEVENT
END:VCALENDAR