BEGIN:VCALENDAR
VERSION:2.0
PRODID:-//Southern Division - ECPv6.15.20//NONSGML v1.0//EN
CALSCALE:GREGORIAN
METHOD:PUBLISH
X-ORIGINAL-URL:https://nspsouthern.org
X-WR-CALDESC:Events for Southern Division
REFRESH-INTERVAL;VALUE=DURATION:PT1H
X-Robots-Tag:noindex
X-PUBLISHED-TTL:PT1H
BEGIN:VTIMEZONE
TZID:America/New_York
BEGIN:DAYLIGHT
TZOFFSETFROM:-0500
TZOFFSETTO:-0400
TZNAME:EDT
DTSTART:20240310T070000
END:DAYLIGHT
BEGIN:STANDARD
TZOFFSETFROM:-0400
TZOFFSETTO:-0500
TZNAME:EST
DTSTART:20241103T060000
END:STANDARD
BEGIN:DAYLIGHT
TZOFFSETFROM:-0500
TZOFFSETTO:-0400
TZNAME:EDT
DTSTART:20250309T070000
END:DAYLIGHT
BEGIN:STANDARD
TZOFFSETFROM:-0400
TZOFFSETTO:-0500
TZNAME:EST
DTSTART:20251102T060000
END:STANDARD
BEGIN:DAYLIGHT
TZOFFSETFROM:-0500
TZOFFSETTO:-0400
TZNAME:EDT
DTSTART:20260308T070000
END:DAYLIGHT
BEGIN:STANDARD
TZOFFSETFROM:-0400
TZOFFSETTO:-0500
TZNAME:EST
DTSTART:20261101T060000
END:STANDARD
END:VTIMEZONE
BEGIN:VEVENT
DTSTART;TZID=America/New_York:20250216T080000
DTEND;TZID=America/New_York:20250216T170000
DTSTAMP:20260420T101915
CREATED:20250123T021003Z
LAST-MODIFIED:20250123T021003Z
UID:10000014-1739692800-1739725200@nspsouthern.org
SUMMARY:Avalanche Senior Elective 2025
DESCRIPTION:Field Session
URL:https://nspsouthern.org/event/avalanche-senior-elective-2025-3/
LOCATION:Whitegrass Touring Center\, 643 Weiss Knob Ski Rd\,\, Davis\, VA\, 26260\, United States
CATEGORIES:Avalanche,Division Events,Virginia Region Events
ORGANIZER;CN="Rob Mayer":MAILTO:remstu@yahoo.com
END:VEVENT
BEGIN:VEVENT
DTSTART;TZID=America/New_York:20250209T080000
DTEND;TZID=America/New_York:20250209T170000
DTSTAMP:20260420T101915
CREATED:20250123T021605Z
LAST-MODIFIED:20250123T021605Z
UID:10000016-1739088000-1739120400@nspsouthern.org
SUMMARY:Wintergreen Patrol - Senior OET Evaluation
DESCRIPTION:Senior OET Evaluation
URL:https://nspsouthern.org/event/wintergreen-patrol-senior-oet-evaluation/
LOCATION:Wintergreen Resort\, Route 664\, Wintergreen\, VA\, 22958\, United States
CATEGORIES:OET,Virginia Region Events
ORGANIZER;CN="David Carroll":MAILTO:davidscarroll@comcast.net
END:VEVENT
BEGIN:VEVENT
DTSTART;TZID=America/New_York:20250208T080000
DTEND;TZID=America/New_York:20250208T170000
DTSTAMP:20260420T101915
CREATED:20250123T021748Z
LAST-MODIFIED:20250123T021848Z
UID:10000017-1739001600-1739034000@nspsouthern.org
SUMMARY:Wintergreen Senior OEC Evaluation
DESCRIPTION:OEC Evaluation
URL:https://nspsouthern.org/event/wintergreen-senior-oec-evaluation/
LOCATION:Wintergreen Resort\, Route 664\, Wintergreen\, VA\, 22958\, United States
CATEGORIES:OEC,Virginia Region Events
ORGANIZER;CN="Geoff Stagg":MAILTO:gstagg@yahoo.com
END:VEVENT
END:VCALENDAR