BEGIN:VCALENDAR
VERSION:2.0
PRODID:-//Southern Division - ECPv6.15.20//NONSGML v1.0//EN
CALSCALE:GREGORIAN
METHOD:PUBLISH
X-WR-CALNAME:Southern Division
X-ORIGINAL-URL:https://nspsouthern.org
X-WR-CALDESC:Events for Southern Division
REFRESH-INTERVAL;VALUE=DURATION:PT1H
X-Robots-Tag:noindex
X-PUBLISHED-TTL:PT1H
BEGIN:VTIMEZONE
TZID:America/New_York
BEGIN:DAYLIGHT
TZOFFSETFROM:-0500
TZOFFSETTO:-0400
TZNAME:EDT
DTSTART:20240310T070000
END:DAYLIGHT
BEGIN:STANDARD
TZOFFSETFROM:-0400
TZOFFSETTO:-0500
TZNAME:EST
DTSTART:20241103T060000
END:STANDARD
BEGIN:DAYLIGHT
TZOFFSETFROM:-0500
TZOFFSETTO:-0400
TZNAME:EDT
DTSTART:20250309T070000
END:DAYLIGHT
BEGIN:STANDARD
TZOFFSETFROM:-0400
TZOFFSETTO:-0500
TZNAME:EST
DTSTART:20251102T060000
END:STANDARD
BEGIN:DAYLIGHT
TZOFFSETFROM:-0500
TZOFFSETTO:-0400
TZNAME:EDT
DTSTART:20260308T070000
END:DAYLIGHT
BEGIN:STANDARD
TZOFFSETFROM:-0400
TZOFFSETTO:-0500
TZNAME:EST
DTSTART:20261101T060000
END:STANDARD
BEGIN:DAYLIGHT
TZOFFSETFROM:-0500
TZOFFSETTO:-0400
TZNAME:EDT
DTSTART:20270314T070000
END:DAYLIGHT
BEGIN:STANDARD
TZOFFSETFROM:-0400
TZOFFSETTO:-0500
TZNAME:EST
DTSTART:20271107T060000
END:STANDARD
END:VTIMEZONE
BEGIN:VEVENT
DTSTART;TZID=America/New_York:20260110T080000
DTEND;TZID=America/New_York:20260110T170000
DTSTAMP:20260420T021958
CREATED:20250828T142330Z
LAST-MODIFIED:20250901T153313Z
UID:10000062-1768032000-1768064400@nspsouthern.org
SUMMARY:VA Region Senior OEC Clinic
DESCRIPTION:
URL:https://nspsouthern.org/event/va-region-senior-oec-clinic/
LOCATION:Massanutten Resort\, 1822 Resort Drive\, Massanutten\, 22840\, United States
CATEGORIES:OEC,Virginia Region Events
ORGANIZER;CN="Geoff Stagg":MAILTO:gstagg@reagan.com
END:VEVENT
BEGIN:VEVENT
DTSTART;TZID=America/New_York:20251109T080000
DTEND;TZID=America/New_York:20251109T170000
DTSTAMP:20260420T021958
CREATED:20250324T221952Z
LAST-MODIFIED:20250504T171616Z
UID:10000029-1762675200-1762707600@nspsouthern.org
SUMMARY:Ober Mountain OEC Refresher
DESCRIPTION:
URL:https://nspsouthern.org/event/ober-mountain-oec-refresher/
LOCATION:Ober Mountain\, 1339 Ski Mountain Rd\, Gatlinburg\, TN\, 37738\, United States
CATEGORIES:High South Region Events,OEC
ORGANIZER;CN="Rob Mayer":MAILTO:remstu@yahoo.com
END:VEVENT
BEGIN:VEVENT
DTSTART;TZID=America/New_York:20251108T080000
DTEND;TZID=America/New_York:20251108T170000
DTSTAMP:20260420T021958
CREATED:20250804T145535Z
LAST-MODIFIED:20250806T235030Z
UID:10000040-1762588800-1762621200@nspsouthern.org
SUMMARY:Winterplace OEC Refresher
DESCRIPTION:
URL:https://nspsouthern.org/event/winterplace-oec-refresher/
LOCATION:Winterplace Ski Resort\, 100 Old\, Flat Top Mountain Road\, Ghent\, WV\, 25843\, United States
CATEGORIES:OEC,West Virginia Region
ORGANIZER;CN="Cindy Boehling":MAILTO:cboehling13@gmail.com
END:VEVENT
BEGIN:VEVENT
DTSTART;TZID=America/New_York:20251108T080000
DTEND;TZID=America/New_York:20251108T170000
DTSTAMP:20260420T021958
CREATED:20250324T221832Z
LAST-MODIFIED:20250504T171646Z
UID:10000028-1762588800-1762621200@nspsouthern.org
SUMMARY:Ober Mountain OEC Instructor Refresher.
DESCRIPTION:
URL:https://nspsouthern.org/event/ober-mountain-oec-instructor-refresher/
LOCATION:Ober Mountain\, 1339 Ski Mountain Rd\, Gatlinburg\, TN\, 37738\, United States
CATEGORIES:High South Region Events,OEC
ORGANIZER;CN="Rob Mayer":MAILTO:remstu@yahoo.com
END:VEVENT
BEGIN:VEVENT
DTSTART;TZID=America/New_York:20251101T080000
DTEND;TZID=America/New_York:20251101T170000
DTSTAMP:20260420T021958
CREATED:20250804T145454Z
LAST-MODIFIED:20250806T235132Z
UID:10000039-1761984000-1762016400@nspsouthern.org
SUMMARY:Snowshoe OEC Refresher
DESCRIPTION:
URL:https://nspsouthern.org/event/snowshoe-oec-refresher/
LOCATION:Snowshoe\, Snowshoe Mountain Resort\, Snowshoe\, WV\, 26209\, United States
CATEGORIES:OEC,West Virginia Region
ORGANIZER;CN="Charlotte Bradley":MAILTO:cbradley@snowshoemountain.com
END:VEVENT
BEGIN:VEVENT
DTSTART;TZID=America/New_York:20251019T080000
DTEND;TZID=America/New_York:20251019T170000
DTSTAMP:20260420T021958
CREATED:20250523T230957Z
LAST-MODIFIED:20250806T235355Z
UID:10000032-1760860800-1760893200@nspsouthern.org
SUMMARY:Cataloochee OEC Refresher
DESCRIPTION:
URL:https://nspsouthern.org/event/cataloochee-oec-refresher/
LOCATION:Cataloochee Ski Resort\, 1080 Ski Lodge Rd\, Maggie Valley\, NC\, 28751\, United States
CATEGORIES:High South Region Events,OEC
ORGANIZER;CN="John Pruitt":MAILTO:johndpruitt@hotmail.com
END:VEVENT
BEGIN:VEVENT
DTSTART;TZID=America/New_York:20251018T080000
DTEND;TZID=America/New_York:20251018T170000
DTSTAMP:20260420T021958
CREATED:20250831T120018Z
LAST-MODIFIED:20250901T153324Z
UID:10000060-1760774400-1760806800@nspsouthern.org
SUMMARY:Massanutten OEC Refresher
DESCRIPTION:
URL:https://nspsouthern.org/event/massanutten-refresher/
LOCATION:Massanutten Resort\, 1822 Resort Drive\, Massanutten\, 22840\, United States
CATEGORIES:OEC,Virginia Region Events
ORGANIZER;CN="Nancy Bradburn":MAILTO:nbradburn@massresort.com
END:VEVENT
BEGIN:VEVENT
DTSTART;TZID=America/New_York:20251018T080000
DTEND;TZID=America/New_York:20251018T120000
DTSTAMP:20260420T021958
CREATED:20250804T145356Z
LAST-MODIFIED:20250901T152851Z
UID:10000038-1760774400-1760788800@nspsouthern.org
SUMMARY:Snowshoe Instructor OEC Refresher
DESCRIPTION:
URL:https://nspsouthern.org/event/snowshoe-instructor-refresher/
LOCATION:NC
CATEGORIES:OEC,West Virginia Region
ORGANIZER;CN="Charlotte Bradley":MAILTO:cbradley@snowshoemountain.com
END:VEVENT
BEGIN:VEVENT
DTSTART;TZID=America/New_York:20251011T080000
DTEND;TZID=America/New_York:20251011T170000
DTSTAMP:20260420T021958
CREATED:20250825T212636Z
LAST-MODIFIED:20250901T153539Z
UID:10000061-1760169600-1760202000@nspsouthern.org
SUMMARY:Wintergreen OEC Refresher
DESCRIPTION:
URL:https://nspsouthern.org/event/wintergreen-refresher/
LOCATION:NC
CATEGORIES:OEC,Virginia Region Events
ORGANIZER;CN="Dave Cornelius":MAILTO:daves.mobile.marine@hotmail.com
END:VEVENT
BEGIN:VEVENT
DTSTART;TZID=America/New_York:20251011T080000
DTEND;TZID=America/New_York:20251011T170000
DTSTAMP:20260420T021958
CREATED:20250804T145053Z
LAST-MODIFIED:20250806T235245Z
UID:10000037-1760169600-1760202000@nspsouthern.org
SUMMARY:Timberline Mountain OEC Refresher
DESCRIPTION:
URL:https://nspsouthern.org/event/timberline-mountain-oec-refresher/
LOCATION:Timberline Mountain\, 254 Four Seasons Dr.\, Davis\, WV\, 26260\, United States
CATEGORIES:OEC,West Virginia Region
ORGANIZER;CN="Jeff Ayers":MAILTO:jayers@timberlinemountain.com
END:VEVENT
BEGIN:VEVENT
DTSTART;TZID=America/New_York:20251005T080000
DTEND;TZID=America/New_York:20251006T170000
DTSTAMP:20260420T021958
CREATED:20250825T211329Z
LAST-MODIFIED:20250909T235812Z
UID:10000059-1759651200-1759770000@nspsouthern.org
SUMMARY:Massanutten Instructor OEC Refresher
DESCRIPTION:
URL:https://nspsouthern.org/event/massanutten-instructor-refresher/
LOCATION:Massanutten Resort\, 1822 Resort Drive\, Massanutten\, 22840\, United States
CATEGORIES:OEC,Virginia Region Events
ORGANIZER;CN="Nancy Bradburn":MAILTO:nbradburn@massresort.com
END:VEVENT
BEGIN:VEVENT
DTSTART;TZID=America/New_York:20251005T080000
DTEND;TZID=America/New_York:20251005T170000
DTSTAMP:20260420T021958
CREATED:20250825T211127Z
LAST-MODIFIED:20250901T155510Z
UID:10000058-1759651200-1759683600@nspsouthern.org
SUMMARY:Bryce OEC Refresher
DESCRIPTION:
URL:https://nspsouthern.org/event/bryce-refresher/
LOCATION:Bryce Resort\, 1982 Fairway Dr\, Basye\, VA\, 22810\, United States
CATEGORIES:OEC,Virginia Region Events
ORGANIZER;CN="Tyler LaVey":MAILTO:tnlavay@gmail.com
END:VEVENT
BEGIN:VEVENT
DTSTART;TZID=America/New_York:20251005T080000
DTEND;TZID=America/New_York:20251005T170000
DTSTAMP:20260420T021958
CREATED:20250820T210822Z
LAST-MODIFIED:20250913T165024Z
UID:10000050-1759651200-1759683600@nspsouthern.org
SUMMARY:Hatley Pointe OEC Refresher
DESCRIPTION:
URL:https://nspsouthern.org/event/hatley-pointe-oec-refresher/
LOCATION:North Windy Ridge School\, 20 Doan Rd\, Weaverville\, NC\, 28787
CATEGORIES:High South Region Events,OEC
END:VEVENT
BEGIN:VEVENT
DTSTART;TZID=America/New_York:20251004T080000
DTEND;TZID=America/New_York:20251004T170000
DTSTAMP:20260420T021958
CREATED:20250825T211013Z
LAST-MODIFIED:20250901T155432Z
UID:10000057-1759564800-1759597200@nspsouthern.org
SUMMARY:Bryce Instructor OEC Refresher
DESCRIPTION:
URL:https://nspsouthern.org/event/bryce-instructor-refresher/
LOCATION:Bryce Resort\, 1982 Fairway Dr\, Basye\, VA\, 22810\, United States
CATEGORIES:OEC,Virginia Region Events
ORGANIZER;CN="Tyler LaVey":MAILTO:tnlavay@gmail.com
END:VEVENT
BEGIN:VEVENT
DTSTART;TZID=America/New_York:20251004T080000
DTEND;TZID=America/New_York:20251004T170000
DTSTAMP:20260420T021958
CREATED:20250820T210357Z
LAST-MODIFIED:20250913T165124Z
UID:10000049-1759564800-1759597200@nspsouthern.org
SUMMARY:Hatley Pointe Instructor OEC Refresher
DESCRIPTION:
URL:https://nspsouthern.org/event/hatley-pointe-instructor-refresher/
LOCATION:North Windy Ridge School\, 20 Doan Rd\, Weaverville\, NC\, 28787
CATEGORIES:High South Region Events,OEC
END:VEVENT
BEGIN:VEVENT
DTSTART;TZID=America/New_York:20250927T080000
DTEND;TZID=America/New_York:20250927T170000
DTSTAMP:20260420T021958
CREATED:20250823T145515Z
LAST-MODIFIED:20250901T153624Z
UID:10000051-1758960000-1758992400@nspsouthern.org
SUMMARY:Wintergreen Instructor OEC Refresher
DESCRIPTION:
URL:https://nspsouthern.org/event/wintergreen-pre-refresher/
LOCATION:Wintergreen Resort\, Route 664\, Wintergreen\, VA\, 22958\, United States
CATEGORIES:OEC,Virginia Region Events
ORGANIZER;CN="David Cornelius":MAILTO:daves.mobile.marine@hotmail.com
END:VEVENT
BEGIN:VEVENT
DTSTART;TZID=America/New_York:20250927T080000
DTEND;TZID=America/New_York:20250927T170000
DTSTAMP:20260420T021958
CREATED:20250528T154033Z
LAST-MODIFIED:20250806T235421Z
UID:10000033-1758960000-1758992400@nspsouthern.org
SUMMARY:Cataloochee OEC Instructor Refresher
DESCRIPTION:
URL:https://nspsouthern.org/event/cataloochee-oec-instructor-refresher/
LOCATION:Cataloochee Ski Resort\, 1080 Ski Lodge Rd\, Maggie Valley\, NC\, 28751\, United States
CATEGORIES:High South Region Events,OEC
ORGANIZER;CN="John Pruitt":MAILTO:johndpruitt@hotmail.com
END:VEVENT
BEGIN:VEVENT
DTSTART;TZID=America/New_York:20250920T080000
DTEND;TZID=America/New_York:20250920T120000
DTSTAMP:20260420T021958
CREATED:20250806T002842Z
LAST-MODIFIED:20250901T153024Z
UID:10000035-1758355200-1758369600@nspsouthern.org
SUMMARY:Timberline Mountain Instructor OEC Refresher
DESCRIPTION:
URL:https://nspsouthern.org/event/timberline-mountain-instructor-refresher-2/
LOCATION:Timberline Mountain\, 254 Four Seasons Dr.\, Davis\, WV\, 26260\, United States
CATEGORIES:OEC,West Virginia Region
ORGANIZER;CN="Jeff Ayers":MAILTO:jayers@timberlinemountain.com
END:VEVENT
END:VCALENDAR