BEGIN:VCALENDAR
VERSION:2.0
PRODID:-//Southern Division - ECPv6.15.20//NONSGML v1.0//EN
CALSCALE:GREGORIAN
METHOD:PUBLISH
X-WR-CALNAME:Southern Division
X-ORIGINAL-URL:https://nspsouthern.org
X-WR-CALDESC:Events for Southern Division
REFRESH-INTERVAL;VALUE=DURATION:PT1H
X-Robots-Tag:noindex
X-PUBLISHED-TTL:PT1H
BEGIN:VTIMEZONE
TZID:America/New_York
BEGIN:DAYLIGHT
TZOFFSETFROM:-0500
TZOFFSETTO:-0400
TZNAME:EDT
DTSTART:20240310T070000
END:DAYLIGHT
BEGIN:STANDARD
TZOFFSETFROM:-0400
TZOFFSETTO:-0500
TZNAME:EST
DTSTART:20241103T060000
END:STANDARD
BEGIN:DAYLIGHT
TZOFFSETFROM:-0500
TZOFFSETTO:-0400
TZNAME:EDT
DTSTART:20250309T070000
END:DAYLIGHT
BEGIN:STANDARD
TZOFFSETFROM:-0400
TZOFFSETTO:-0500
TZNAME:EST
DTSTART:20251102T060000
END:STANDARD
BEGIN:DAYLIGHT
TZOFFSETFROM:-0500
TZOFFSETTO:-0400
TZNAME:EDT
DTSTART:20260308T070000
END:DAYLIGHT
BEGIN:STANDARD
TZOFFSETFROM:-0400
TZOFFSETTO:-0500
TZNAME:EST
DTSTART:20261101T060000
END:STANDARD
BEGIN:DAYLIGHT
TZOFFSETFROM:-0500
TZOFFSETTO:-0400
TZNAME:EDT
DTSTART:20270314T070000
END:DAYLIGHT
BEGIN:STANDARD
TZOFFSETFROM:-0400
TZOFFSETTO:-0500
TZNAME:EST
DTSTART:20271107T060000
END:STANDARD
END:VTIMEZONE
BEGIN:VEVENT
DTSTART;TZID=America/New_York:20260208T080000
DTEND;TZID=America/New_York:20260208T170000
DTSTAMP:20260420T052639
CREATED:20250828T144148Z
LAST-MODIFIED:20250901T152213Z
UID:10000065-1770537600-1770570000@nspsouthern.org
SUMMARY:VA Region OET Evaluation
DESCRIPTION:
URL:https://nspsouthern.org/event/va-region-oet-evaluation/
LOCATION:Massanutten Resort\, 1822 Resort Drive\, Massanutten\, 22840\, United States
CATEGORIES:OET,Virginia Region Events
ORGANIZER;CN="David Carroll":MAILTO:davidscarroll@comcast.net
END:VEVENT
BEGIN:VEVENT
DTSTART;TZID=America/New_York:20260130T180000
DTEND;TZID=America/New_York:20260130T210000
DTSTAMP:20260420T052639
CREATED:20251218T150721Z
LAST-MODIFIED:20251218T150721Z
UID:10000097-1769796000-1769806800@nspsouthern.org
SUMMARY:Toboggan Trainers Workshop - Ski Beech
DESCRIPTION:
URL:https://nspsouthern.org/event/toboggan-trainers-workshop-ski-beech/
LOCATION:Ski Beech Mountain\, 1007 Beech Mountain Pkwy\, Beech Mountain\, NC\, 28604\, United States
CATEGORIES:Blue Ridge Region Events
ORGANIZER;CN="Tom Gantt":MAILTO:tomgantt752@gmail.com
END:VEVENT
BEGIN:VEVENT
DTSTART;TZID=America/New_York:20260125T080000
DTEND;TZID=America/New_York:20260125T170000
DTSTAMP:20260420T052639
CREATED:20250825T201045Z
LAST-MODIFIED:20260120T154410Z
UID:10000052-1769328000-1769360400@nspsouthern.org
SUMMARY:High South Senior OET Clinic
DESCRIPTION:
URL:https://nspsouthern.org/event/high-south-senior-oet-clinic/
LOCATION:Ober Mountain\, 1339 Ski Mountain Rd\, Gatlinburg\, TN\, 37738\, United States
CATEGORIES:High South Region Events,OET
ORGANIZER;CN="Chris Polhemus":MAILTO:christopher.polhemus@lmco.com
END:VEVENT
BEGIN:VEVENT
DTSTART;TZID=America/New_York:20260111T080000
DTEND;TZID=America/New_York:20260111T170000
DTSTAMP:20260420T052639
CREATED:20250828T142626Z
LAST-MODIFIED:20250901T153443Z
UID:10000063-1768118400-1768150800@nspsouthern.org
SUMMARY:VA Region Senior OET Clinic
DESCRIPTION:
URL:https://nspsouthern.org/event/va-region-senior-oet-clinic/
LOCATION:Massanutten Resort\, 1822 Resort Drive\, Massanutten\, 22840\, United States
CATEGORIES:Virginia Region Events
ORGANIZER;CN="David Carroll":MAILTO:davidscarroll@comcast.net
END:VEVENT
BEGIN:VEVENT
DTSTART;TZID=America/New_York:20260109T180000
DTEND;TZID=America/New_York:20260111T170000
DTSTAMP:20260420T052639
CREATED:20251118T004244Z
LAST-MODIFIED:20251118T020751Z
UID:10000095-1767981600-1768150800@nspsouthern.org
SUMMARY:OET Timberline/Canaan Valley — Patroller School
DESCRIPTION:Timberline/Canaan Valley Patroller School\nTimberline/Canaan Valley Patroller School is a two-day event co-sponsored by the Southern and Eastern Divisions. Choose the event that best describes the education you are seeking. The OET training events are typically $120 for the entire weekend\, which covers the cost of instruction and event access.  THIS COURSE COUNTS AS CONTINUING EDUCATION FOR THE SOUTHERN DIVISION STAFF (STW AND TTW). \nGeneral Admission Options for all Tickets\n\nChoose a two-day seminar for skiers\, snowboarders\, telemarkers\, Women’s Program\, focused on optimizing toboggan handling technique and enhancing riding/skiing technique. \n\nSouthern Division OET Instructor CE / Trainer-Evaluator (TE) Certification\n\nThis event is for S.D. instructors and  E.D. TE’s only.  A two-day event for existing S.D Instructors and E.D. TE’s and for those training to become full TE’s.  Re-certs welcome.  THIS SESSION WILL COUNT AS AN STW AND TTW FOR ANY PARTICIPANT.  This course will meet the Southern Division con ed requirement. \n\n  \nFriday Social Reception\n\nPlease join us at the bar at the Timberline Lodge (3rd floor) at 6 PM to socialize with Southern and Eastern Division Patrollers.  No tickets necessary\, show up!  We’ll be waiting \n\nLodging and Accommodations:  Lodging is the responsibility of each individual Patroller.  The OET Staff is staying at the Canaan Valley Resort\, and we have reserved 10 additional rooms on our reservation block.  These are available on a first-come\, first-served basis using our NSP GROUP CODE:  PS219. \nThe easiest way is to call the Canaan Valley Lodging reservation line and provide the code to the representative at 304-866-4121 or email reservations@canaanresort.com to initiate a booking.  Other options are available \n\nThe Lodging at Canaan Valley  (GROUP CODE:  PS219)\nAir B&B rentals\nBookings.COM\n\n\nTIMBERLINE MOUNTAIN\n254 Four Seasons Dr.\nDavis\, WV 26260\n\n\nCANAAN VALLEY RESORT\n230 Main Lodge Rd.\nDavis\, West Virginia 26260
URL:https://nspsouthern.org/event/oet-timberline-canaan-valley-patroller-school/
LOCATION:Timberline Mountain\, 254 Four Seasons Dr.\, Davis\, WV\, 26260\, United States
CATEGORIES:Division Events,OET,West Virginia Region
ATTACH;FMTTYPE=image/png:https://nspsouthern.org/wp-content/uploads/2025/11/Canaan-timberlinelogo.png
ORGANIZER;CN="Randall Rumer":MAILTO:southernoet@gmail.com
END:VEVENT
BEGIN:VEVENT
DTSTART;TZID=America/New_York:20250203T080000
DTEND;TZID=America/New_York:20250203T170000
DTSTAMP:20260420T052639
CREATED:20250122T184932Z
LAST-MODIFIED:20250122T185223Z
UID:10000007-1738569600-1738602000@nspsouthern.org
SUMMARY:Senior Alpine Trainer/Evaluator Clinic
DESCRIPTION:Senior Alpine Trainer/Evaluator Clinic
URL:https://nspsouthern.org/event/senior-alpine-trainer-evaluator-clinic/
LOCATION:Ober Mountain\, 1339 Ski Mountain Rd\, Gatlinburg\, TN\, 37738\, United States
CATEGORIES:High South Region Events,OET
ORGANIZER;CN="Randall Rumer":MAILTO:southernoet@gmail.com
END:VEVENT
BEGIN:VEVENT
DTSTART;TZID=America/New_York:20250122T080000
DTEND;TZID=America/New_York:20250122T170000
DTSTAMP:20260420T052639
CREATED:20250122T185149Z
LAST-MODIFIED:20250122T185149Z
UID:10000008-1737532800-1737565200@nspsouthern.org
SUMMARY:WV Region Toboggan Trainers Workshop
DESCRIPTION:WV Region Toboggan Trainers Workshop
URL:https://nspsouthern.org/event/wv-region-toboggan-trainers-workshop/
LOCATION:Snowshoe\, Snowshoe Mountain Resort\, Snowshoe\, WV\, 26209\, United States
CATEGORIES:OET,West Virginia Region
ORGANIZER;CN="Randall Rumer":MAILTO:southernoet@gmail.com
END:VEVENT
END:VCALENDAR