BEGIN:VCALENDAR
VERSION:2.0
PRODID:-//Southern Division - ECPv6.15.20//NONSGML v1.0//EN
CALSCALE:GREGORIAN
METHOD:PUBLISH
X-WR-CALNAME:Southern Division
X-ORIGINAL-URL:https://nspsouthern.org
X-WR-CALDESC:Events for Southern Division
REFRESH-INTERVAL;VALUE=DURATION:PT1H
X-Robots-Tag:noindex
X-PUBLISHED-TTL:PT1H
BEGIN:VTIMEZONE
TZID:America/New_York
BEGIN:DAYLIGHT
TZOFFSETFROM:-0500
TZOFFSETTO:-0400
TZNAME:EDT
DTSTART:20250309T070000
END:DAYLIGHT
BEGIN:STANDARD
TZOFFSETFROM:-0400
TZOFFSETTO:-0500
TZNAME:EST
DTSTART:20251102T060000
END:STANDARD
BEGIN:DAYLIGHT
TZOFFSETFROM:-0500
TZOFFSETTO:-0400
TZNAME:EDT
DTSTART:20260308T070000
END:DAYLIGHT
BEGIN:STANDARD
TZOFFSETFROM:-0400
TZOFFSETTO:-0500
TZNAME:EST
DTSTART:20261101T060000
END:STANDARD
BEGIN:DAYLIGHT
TZOFFSETFROM:-0500
TZOFFSETTO:-0400
TZNAME:EDT
DTSTART:20270314T070000
END:DAYLIGHT
BEGIN:STANDARD
TZOFFSETFROM:-0400
TZOFFSETTO:-0500
TZNAME:EST
DTSTART:20271107T060000
END:STANDARD
END:VTIMEZONE
BEGIN:VEVENT
DTSTART;TZID=America/New_York:20260130T180000
DTEND;TZID=America/New_York:20260130T210000
DTSTAMP:20260420T021242
CREATED:20251218T150721Z
LAST-MODIFIED:20251218T150721Z
UID:10000097-1769796000-1769806800@nspsouthern.org
SUMMARY:Toboggan Trainers Workshop - Ski Beech
DESCRIPTION:
URL:https://nspsouthern.org/event/toboggan-trainers-workshop-ski-beech/
LOCATION:Ski Beech Mountain\, 1007 Beech Mountain Pkwy\, Beech Mountain\, NC\, 28604\, United States
CATEGORIES:Blue Ridge Region Events
ORGANIZER;CN="Tom Gantt":MAILTO:tomgantt752@gmail.com
END:VEVENT
END:VCALENDAR